BEGIN:VCALENDAR
VERSION:2.0
PRODID:icalendar-ruby
CALSCALE:GREGORIAN
METHOD:PUBLISH
BEGIN:VEVENT
DTSTAMP:20260424T044810Z
UID:6-1040962@bethlehemlutheranfortmyers.org
DTSTART:20261018T143000Z
DTEND:20261018T153000Z
CLASS:PUBLIC
CREATED:20260423T212250
DESCRIPTION:Sunday Worship
LAST-MODIFIED:20260423T212250
LOCATION:14531 Old Olga Rd Fort Myers\, FL 33905
SUMMARY:Sunday Worship
URL;VALUE=URI:https://bethlehemlutheranfortmyers.org/events/sunday-worship/
 2026-10-18
END:VEVENT
END:VCALENDAR
