BEGIN:VCALENDAR
VERSION:2.0
PRODID:icalendar-ruby
CALSCALE:GREGORIAN
METHOD:PUBLISH
BEGIN:VEVENT
DTSTAMP:20260423T235655Z
UID:6-1040318@bethlehemlutheranfortmyers.org
DTSTART:20260927T143000Z
DTEND:20260927T153000Z
CLASS:PUBLIC
CREATED:20260423T182938
DESCRIPTION:Sunday Worship
LAST-MODIFIED:20260423T182938
LOCATION:14531 Old Olga Rd Fort Myers\, FL 33905
SUMMARY:Sunday Worship
URL;VALUE=URI:https://bethlehemlutheranfortmyers.org/events/sunday-worship/
 2026-09-27
END:VEVENT
END:VCALENDAR
