BEGIN:VCALENDAR
VERSION:2.0
PRODID:icalendar-ruby
CALSCALE:GREGORIAN
METHOD:PUBLISH
BEGIN:VEVENT
DTSTAMP:20260426T000248Z
UID:7-1048313@bethlehemlutheranfortmyers.org
DTSTART:20261101T163000Z
DTEND:20261101T173000Z
CLASS:PUBLIC
CREATED:20260425T173052
DESCRIPTION:Bible Class\, Sunday School\, Confirmation Class
LAST-MODIFIED:20260425T173052
LOCATION:14531 Old Olga Rd Fort Myers\, FL 33905
SUMMARY:Bible Class\, Sunday School\, Confirmation Class
URL;VALUE=URI:https://bethlehemlutheranfortmyers.org/events/bible-class-sun
 day-school-confirmation-class/2026-11-01
END:VEVENT
END:VCALENDAR
