BEGIN:VCALENDAR
VERSION:2.0
PRODID:icalendar-ruby
CALSCALE:GREGORIAN
METHOD:PUBLISH
BEGIN:VEVENT
DTSTAMP:20260425T211229Z
UID:7-1047670@bethlehemlutheranfortmyers.org
DTSTART:20261018T153000Z
DTEND:20261018T163000Z
CLASS:PUBLIC
CREATED:20260425T144851
DESCRIPTION:Bible Class\, Sunday School\, Confirmation Class
LAST-MODIFIED:20260425T144851
LOCATION:14531 Old Olga Rd Fort Myers\, FL 33905
SUMMARY:Bible Class\, Sunday School\, Confirmation Class
URL;VALUE=URI:https://bethlehemlutheranfortmyers.org/events/bible-class-sun
 day-school-confirmation-class/2026-10-18
END:VEVENT
END:VCALENDAR
